BEGIN:VCALENDAR
VERSION:2.0
PRODID:-//Kulturfabrik Krawatte - ECPv6.15.12.2//NONSGML v1.0//EN
CALSCALE:GREGORIAN
METHOD:PUBLISH
X-WR-CALNAME:Kulturfabrik Krawatte
X-ORIGINAL-URL:http://www.kulturfabrikkrawatte.de
X-WR-CALDESC:Veranstaltungen für Kulturfabrik Krawatte
REFRESH-INTERVAL;VALUE=DURATION:PT1H
X-Robots-Tag:noindex
X-PUBLISHED-TTL:PT1H
BEGIN:VTIMEZONE
TZID:Europe/Berlin
BEGIN:DAYLIGHT
TZOFFSETFROM:+0100
TZOFFSETTO:+0200
TZNAME:CEST
DTSTART:20230326T010000
END:DAYLIGHT
BEGIN:STANDARD
TZOFFSETFROM:+0200
TZOFFSETTO:+0100
TZNAME:CET
DTSTART:20231029T010000
END:STANDARD
BEGIN:DAYLIGHT
TZOFFSETFROM:+0100
TZOFFSETTO:+0200
TZNAME:CEST
DTSTART:20240331T010000
END:DAYLIGHT
BEGIN:STANDARD
TZOFFSETFROM:+0200
TZOFFSETTO:+0100
TZNAME:CET
DTSTART:20241027T010000
END:STANDARD
BEGIN:DAYLIGHT
TZOFFSETFROM:+0100
TZOFFSETTO:+0200
TZNAME:CEST
DTSTART:20250330T010000
END:DAYLIGHT
BEGIN:STANDARD
TZOFFSETFROM:+0200
TZOFFSETTO:+0100
TZNAME:CET
DTSTART:20251026T010000
END:STANDARD
END:VTIMEZONE
BEGIN:VEVENT
DTSTART;TZID=Europe/Berlin:20240405T180000
DTEND;TZID=Europe/Berlin:20240428T170000
DTSTAMP:20260425T143651
CREATED:20240228T161929Z
LAST-MODIFIED:20240228T161929Z
UID:32936-1712340000-1714323600@www.kulturfabrikkrawatte.de
SUMMARY:Unter dem Pflaster liegt der Strand Malerei Thomas Ritter
DESCRIPTION:Der Kunstverein Barsinghausen lädt vom 5. April – 28.April zu einer Ausstellung von Thomas Ritter ein \nThomas Ritter ist ein norddeutscher Künstler\, dessen Bilder weltweit aus gestellt werden. Seine im abstrakten Expressionismus verwurzelten Werke legen einen Nebel der Mehrdeutigkeit über seine Themen. In vielen Schichten entstehend\, zeichnet sich das Verfahren durch das Hinzufügen und Entfernen von Farbe aus. Am Ende bleibt ein Geheimnis\, dass mit Erinnerungen und Assoziationen verbundene Gefühle hervor ruft. Hinter dem Titel der Ausstellung verbergen sich Werke\, die den Vorgang des Malens auf beeindruckende Weise erlebbar werden lassen. Ritters Bilder sind keine Produkte spontaner gestische Ausbrüche\, diese mögen Ausgangspunkt sein\, aber sie erscheinen als gebändigte Energien\, die in einem langsamen\, gestalterischen Prozess freigelegt werden. So wird den Kompositionen eine besondere Tiefe und Ausdruckskraft verlieren. \nvon 5. April Vernissage 18 Uhr  – 28. April 2024 Finssage 17 Uhr \nÖffnungszeiten:\nSamstags und Sonntags 14-18 Uhr\nOrt\nRaum für Kunst (1. OG)\nKulturfabrik Krawatte\nEgestorfer Straße 28\n30890 Barsinghausen
URL:http://www.kulturfabrikkrawatte.de/event/unter-dem-pflaster-liegt-der-strand-malerei-thomas-ritter/
LOCATION:Raum für Kunst\, Egestorfer Straße 28\, Barsinghausen\, Niedersachsen\, 30890\, Deutschland
CATEGORIES:Ausstellung,Termin
END:VEVENT
END:VCALENDAR