BEGIN:VCALENDAR
VERSION:2.0
PRODID:-//Kulturfabrik Krawatte - ECPv6.15.12.2//NONSGML v1.0//EN
CALSCALE:GREGORIAN
METHOD:PUBLISH
X-WR-CALNAME:Kulturfabrik Krawatte
X-ORIGINAL-URL:https://www.kulturfabrikkrawatte.de
X-WR-CALDESC:Veranstaltungen für Kulturfabrik Krawatte
REFRESH-INTERVAL;VALUE=DURATION:PT1H
X-Robots-Tag:noindex
X-PUBLISHED-TTL:PT1H
BEGIN:VTIMEZONE
TZID:Europe/Berlin
BEGIN:DAYLIGHT
TZOFFSETFROM:+0100
TZOFFSETTO:+0200
TZNAME:CEST
DTSTART:20220327T010000
END:DAYLIGHT
BEGIN:STANDARD
TZOFFSETFROM:+0200
TZOFFSETTO:+0100
TZNAME:CET
DTSTART:20221030T010000
END:STANDARD
BEGIN:DAYLIGHT
TZOFFSETFROM:+0100
TZOFFSETTO:+0200
TZNAME:CEST
DTSTART:20230326T010000
END:DAYLIGHT
BEGIN:STANDARD
TZOFFSETFROM:+0200
TZOFFSETTO:+0100
TZNAME:CET
DTSTART:20231029T010000
END:STANDARD
BEGIN:DAYLIGHT
TZOFFSETFROM:+0100
TZOFFSETTO:+0200
TZNAME:CEST
DTSTART:20240331T010000
END:DAYLIGHT
BEGIN:STANDARD
TZOFFSETFROM:+0200
TZOFFSETTO:+0100
TZNAME:CET
DTSTART:20241027T010000
END:STANDARD
END:VTIMEZONE
BEGIN:VEVENT
DTSTART;TZID=Europe/Berlin:20231007T153000
DTEND;TZID=Europe/Berlin:20231007T183000
DTSTAMP:20260424T111701
CREATED:20230927T090217Z
LAST-MODIFIED:20230927T090217Z
UID:32712-1696692600-1696703400@www.kulturfabrikkrawatte.de
SUMMARY:Kulturtüte
DESCRIPTION:Die Kulturtüte des Bildungsvereins Barsinghausen Stemmer Spatzen e.V findet am 07.10.2023 im Saal der Kulturfabrik Krawatte wieder statt. Eine Bunte Tüte aus verschiedensten Künstlern erwartet Sie. \n\n\nDas Programm: \nSusanne Freyer und Dorte Göbel spielen Stücke auf einer „Goni“\, einer afrikanischen Harfe. \nDer Zauberer Atti Kim verzaubert uns mit seinen Illusionen und Tricks. \nDas Trio mit Marion Fensterer\, Edda Messer und Sandra Gorczyza spielt Stücke aus Irland und Skandinavien\, die hauptsächlich für Fiddle\, Harfe und Querflöte arrangiert wurden. \nMarion Fensterer (Querflöte\, Blockflöte\, Gitarre\, Bodhrán\, Gesang). Sie hat früher in der Band Thalmy gespielt und gesungen. \n \nEdda Messer (Fiddle\, Mandoline\, Concertina). Sie spielt regelmäßig in der in der Irish Folk Band „Northbound“. \nSandra Gorczyza (Harfe\, Akkordeon\, Gitarre\, Bodhrán). Sie bildet mit Edda Messer das Duo „TEA BETWEEN“ und spielte dort folkige Musik aus Irland\, Schottland und anderen schönen Ecken der Welt. \n„Musikprojekt nebenan“\, ein Quartett\, bestehend aus Elke Beutler (Gitarre\, Gesang)\, Steffen Fiedler (E- Gitarre\, Steelguiter)\, Philine Kunze (Keyboard\, Steelguitar) und Siggi Kunze (Bass)\, präsentieren uns eigene Kompositionen. \nDas Clowns-Duo „Cocolorix“ hat in der Kreativ-Werkstatt wieder fleißig gebastelt und geschraubt und stellt uns Auszüge aus ihrem neuen Programm vor. \n„Gudrun Heidenreich“ (Poesie\, Lyrik\, Kurzgeschichten) und begleitend die „Hannover Blues Boyz\, mit Jürgen Diercks (Gesang\,Gitarre)\, Thomas Holzapfel (Bass) und Martin Kinkel(Cajon) präsentieren uns eine besondere Mischung aus „poetry & blues“.
URL:https://www.kulturfabrikkrawatte.de/event/kulturtuete-4/
LOCATION:Saal im EG\, Egestorfer Straße 28\, Barsinghausen\, 30890\, Deutschland
CATEGORIES:Konzert,Termin,Theater
ORGANIZER;CN="Bildungsverein Barsinghausen":MAILTO:bildungsverein.barsinghausen@htp-tel.de
END:VEVENT
BEGIN:VEVENT
DTSTART;TZID=Europe/Berlin:20231030T160000
DTEND;TZID=Europe/Berlin:20231030T180000
DTSTAMP:20260424T111701
CREATED:20231005T143034Z
LAST-MODIFIED:20231005T143136Z
UID:32746-1698681600-1698688800@www.kulturfabrikkrawatte.de
SUMMARY:Krawittchen Halloween Special
DESCRIPTION:Krawittchen Halloween Special am 30. Oktober  \nvon 16:00 bis 18:00 Uhr in der Kulturfabrik Krawatte!\nBereitet euch auf eine gruselig-fantastische Zeit vor! \nDas Krawittchen Halloween Special verspricht Spannung\, Spaß und Süßigkeiten für Kinder zwischen 6 und 12 Jahren. Kommt in euren Halloween-Kostüme und genießt eine magische Zeit in der Kulturfabrik Krawatte.\nEintritt: 5€ pro Person . Aber das ist noch nicht alles – mit dem Eintritt erhaltet Ihr zwei bunte Tüten\, gefüllt mit köstlichen Überraschungen für kleine Geister und Hexen. \nFreut euch auf gruselige Dekorationen\, Spiele\, Live-Unterhaltung und vieles mehr. Es wird ein unvergessliches Erlebnis!\nKommt vorbei und feiert Halloween mit uns im Krawittchen Halloween Special. Wir freuen uns auf euer Erscheinen! \nBitte beachten:\nTickets sind nur in begrenzter Anzahl verfügbar. Sollte die Veranstaltung frühzeitig Ausverkauft sein\, wird es auch keine Abendkasse geben.
URL:https://www.kulturfabrikkrawatte.de/event/krawittchen-halloween-special-2/
LOCATION:Saal im EG\, Egestorfer Straße 28\, Barsinghausen\, 30890\, Deutschland
CATEGORIES:Angebote für Kinder,Feier,Krawittchen,Termin
END:VEVENT
END:VCALENDAR