BEGIN:VCALENDAR
VERSION:2.0
PRODID:-//Kulturfabrik Krawatte - ECPv6.15.12.2//NONSGML v1.0//EN
CALSCALE:GREGORIAN
METHOD:PUBLISH
X-ORIGINAL-URL:https://www.kulturfabrikkrawatte.de
X-WR-CALDESC:Veranstaltungen für Kulturfabrik Krawatte
REFRESH-INTERVAL;VALUE=DURATION:PT1H
X-Robots-Tag:noindex
X-PUBLISHED-TTL:PT1H
BEGIN:VTIMEZONE
TZID:Europe/Berlin
BEGIN:DAYLIGHT
TZOFFSETFROM:+0100
TZOFFSETTO:+0200
TZNAME:CEST
DTSTART:20230326T010000
END:DAYLIGHT
BEGIN:STANDARD
TZOFFSETFROM:+0200
TZOFFSETTO:+0100
TZNAME:CET
DTSTART:20231029T010000
END:STANDARD
BEGIN:DAYLIGHT
TZOFFSETFROM:+0100
TZOFFSETTO:+0200
TZNAME:CEST
DTSTART:20240331T010000
END:DAYLIGHT
BEGIN:STANDARD
TZOFFSETFROM:+0200
TZOFFSETTO:+0100
TZNAME:CET
DTSTART:20241027T010000
END:STANDARD
BEGIN:DAYLIGHT
TZOFFSETFROM:+0100
TZOFFSETTO:+0200
TZNAME:CEST
DTSTART:20250330T010000
END:DAYLIGHT
BEGIN:STANDARD
TZOFFSETFROM:+0200
TZOFFSETTO:+0100
TZNAME:CET
DTSTART:20251026T010000
END:STANDARD
END:VTIMEZONE
BEGIN:VEVENT
DTSTART;TZID=Europe/Berlin:20240202T190000
DTEND;TZID=Europe/Berlin:20240202T210000
DTSTAMP:20260424T043521
CREATED:20231202T150633Z
LAST-MODIFIED:20240124T170241Z
UID:32780-1706900400-1706907600@www.kulturfabrikkrawatte.de
SUMMARY:Finissage // Grenzgänger Konzert
DESCRIPTION:Die Kulturfabrik Krawatte freut sich\, die Band Grenzgänger im Rahmen der Finissage der Fotoausstellung der Fotogruppe „Freunde der Arbeiterfotografie“ Hannover begrüßen zu dürfen. \nÜber die Band: \nDas Bremer Quartett um den Bremer Liedermacher und Liedersammler Michael Zachcial ist auch nach fünf Schallplattenpreisen\, mehreren Nummer-Eins-Titeln in der Liederbestenliste und zahlreichen Radiokonzerten immer noch ein Geheimtipp. Dabei füllen sie landauf\, landab inzwischen auch größere Säle\, nicht selten applaudiert das Publikum stehend. Ihre Konzerte sind geprägt von unbändiger Spielfreude\, gleichermaßen unterhaltsam wie intelligent gestrickt.Mittels verschollener und in Vergessenheit geratener Lieder\, die sie unnachahmlich arrangieren und interpretieren\, singen und erzählen sie aus der Perspektive der sogenannten „kleinen Leute“\, aus Fabrik\, Straße und Alltag. Sie sind Grenzgänger zwischen den Genres und den Generationen \nDas Konzert beginnt um 19:00 Uhr.\nKarten gibt es im Vorverkauf in der Kulturfabrikkrawatte oder über Eventimlight. \nPreise:\nVorverkauf: 15€ (ermäßigt 13€)\nAbendkasse 18€ (ermäßigt 15€)
URL:https://www.kulturfabrikkrawatte.de/event/grenzgaenger-konzert/
LOCATION:Saal im EG\, Egestorfer Straße 28\, Barsinghausen\, 30890\, Deutschland
CATEGORIES:Ausstellung,Konzert,Termin
END:VEVENT
BEGIN:VEVENT
DTSTART;TZID=Europe/Berlin:20240210T180000
DTEND;TZID=Europe/Berlin:20240210T193000
DTSTAMP:20260424T043521
CREATED:20240117T155054Z
LAST-MODIFIED:20240118T125437Z
UID:32856-1707588000-1707593400@www.kulturfabrikkrawatte.de
SUMMARY:Von Tuten & Blasen – Vol. 4
DESCRIPTION:Die Kulturfabrik freut sich\, die Calenberger Musikschule am 10. Februar in unserem Haus begrüßen zu dürfen. \nUnter dem Motto „Von Tuten & Blasen“ präsentieren sich zum 4. Mal die verschiedenen Blasensembles der Calenberger Musikschule. Es wirken unter anderem mit: Klarinettenensemble (Ltg.: Pawel Walach)\, Flötenensemble (Ltg. Andrea Pinsker)\, Posaunenensemble (Ltg.: Hans Wendt). \nDie Veranstaltung wird von der Calenberger Musikschule organsiert. Bei Rückfragen wenden Sie sich bitte an den Veranstalter.
URL:https://www.kulturfabrikkrawatte.de/event/von-tuten-blasen-vol-4/
LOCATION:Saal im EG\, Egestorfer Straße 28\, Barsinghausen\, 30890\, Deutschland
CATEGORIES:Konzert,Termin
END:VEVENT
BEGIN:VEVENT
DTSTART;TZID=Europe/Berlin:20240217T193000
DTEND;TZID=Europe/Berlin:20240217T220000
DTSTAMP:20260424T043521
CREATED:20231206T141140Z
LAST-MODIFIED:20231206T144133Z
UID:32789-1708198200-1708207200@www.kulturfabrikkrawatte.de
SUMMARY:Inge & Nico "Wir sind das Wirtschaftswunder"
DESCRIPTION:Die Kulturfabrik Krawatte freut sich auf einen kabarettistischen Abend im Rahmen einer Revue über die Ära 1945 – 1965 mit Inge & Nico am 17.02.2024. \nDie junge Bundesrepublik war bunt\, fleißig\, wild und spießig. Das Fernsehen flimmerte noch schwarz-weiß\, Telefone besaßen Wählscheiben und Autos wurden „Knutschkugel“ genannt. Jeder Auftritt von Inge & Nico entwickelt sich individuell\, da das Publikum durch Wünsche mitwirken kann. Das vielseitige Duo schöpft spontan aus einem großen Repertoire an Liedern und Wissen um die Ära 1945-1965. Eine leidenschaftliche\, Genre-übergreifende Revue mit Fräuleinwundern in Petticoats und halbstarken „SchluckaufHeulern“ \nInge Schäkel steht als Kabarettistin und Sängerin auf der Bühne. Mit ihren komischen Rollen u.a. der „Fräulein Rose“ hat sie sich auf die 50er und 60er Jahre spezialisiert. Als Regisseurin und Autorin bringt sie seit 20 Jahren Jugendtheaterstücke auf die Bühne.\nNico Walser gewann über zwanzig Preise\, darunter denDeutschen Rockpreis\, den Quatsch Comedy Club Wettbewerb oder auch bei Poetry Slams. Eine seiner Satiren hielt 2017 Einzug in den Deutschunterricht der Klassenstufe 8/9. \nEinlass ist um 19:30 Uhr\, die Veranstaltung beginnt um 20:00 Uhr\nTickets gibt es im Vorverkauf Online über Eventim und im Büro der Kulturfabrik Krawatte.\nTicket Preise:\nVorverkauf: 15€ (ermäßigt 13€)\nAbendkasse: 18€ (ermäßigt 15€) \nBitte beachten: Als ermäßigungsberechtigte Personen gelten: Schüler*innen\, Student*innen und Personen mit Schwerbehindertenausweis.
URL:https://www.kulturfabrikkrawatte.de/event/inge-nico-wir-sind-das-wirtschaftswunder/
LOCATION:Saal im EG\, Egestorfer Straße 28\, Barsinghausen\, 30890\, Deutschland
CATEGORIES:Kabarett,Konzert,Revue,Termin
END:VEVENT
BEGIN:VEVENT
DTSTART;TZID=Europe/Berlin:20240223T190000
DTEND;TZID=Europe/Berlin:20240223T230000
DTSTAMP:20260424T043521
CREATED:20240103T132122Z
LAST-MODIFIED:20240103T133704Z
UID:32803-1708714800-1708729200@www.kulturfabrikkrawatte.de
SUMMARY:Tom Waits - Eine Revue
DESCRIPTION:Die Kulturfabrik Krawatte freut sich auf einen spannenden Abend am 23.02.24 mit Flenter & Knop mit Band und Ihren Programm „Wiegenlieder\, Waisen & Krakeeler“ – Musik und Texte von Tom Waits.  \nTom Waits ist ein Geschichtenerzähler. Seine im wahrsten Sinne des Wortes merkwürdigen Gestalten vom Straßenrand\, die Verlierer\, Waisen und Jahrmarkt-Krakeeler tummeln sich im Waits’schen Universum zu absurd-zuckersüßen Melodien. Waits ist ein begnadeter Sammler skurriler Anekdoten\, die er gern in seinen Konzerten und Interviews zum Besten gibt\, wobei der Wahrheitsgehalt seiner Erzählungen bisweilen arg anzuzweifeln ist. Wir heften uns an die Fersen Tom Waits’ in einem einzigartigen Abend voller poetischer Grotesken mit Texten und vor allem großartiger Musik.  \nIm Wechsel mit den Geschichten\, kurzen Texten oder einem Gedicht kommen Songs wie Downtown Train\, Cemetery Polka  u.v.m. zu Gehör. \n \nKersten Flenter performt die Texte\, hat sie übersetzt\, bearbeitet und entwickelt die Ideen. Auch musikalisch ist er dabei\, an der Banjolele\, der Fluchdose oder an der Gitarre. Kersten ist Autor und Bühnenpoet mit zahlreichen Veröffentlichungen. Nicht nur auf literarischen\, sondern auch auf Comedy- und Kabarettbühnen in ganz Deutschland ist er zu Hause. Christoph Knop singt die Waits’schen Songs am Piano oder an der Gitarre. Christoph ist Liedermacher und Musiker. In den letzten Jahren sind viele eigene Songs entstanden. Sowohl in der Rock- und Bluesecke ist er zu Hause\, sein Faible für Jazz\, Swing und Folk hilft ihm bei der Interpretation der Waits’schen Songs\, wobei er nicht versucht\, den Meister zu kopieren. Elke Scheifele spielt das Saxophon. Boris Eisenberg am Kontrabass und Peter Lomba am Schlagzeug bilden die Rhythmusgruppe.  \nEinlass für die Veranstaltung ist um 19:00 Uhr\nBeginn der Veranstaltung 19:30 Uhr  \nKarten für die Veranstaltung gibt es Online über Eventimlight\, die Website der Kulturfabrik oder an der Abendkasse. \nTickets Preise\nVorverkauf: 18€ (ermäßigt 16€)\nAbendkasse: 20€ (ermäßigt 18€)
URL:https://www.kulturfabrikkrawatte.de/event/tom-waits-eine-revue/
LOCATION:Saal im EG\, Egestorfer Straße 28\, Barsinghausen\, 30890\, Deutschland
CATEGORIES:Konzert,Lesung,Revue,Termin
END:VEVENT
END:VCALENDAR