BEGIN:VCALENDAR
VERSION:2.0
PRODID:-//Kulturfabrik Krawatte - ECPv6.15.12.2//NONSGML v1.0//EN
CALSCALE:GREGORIAN
METHOD:PUBLISH
X-WR-CALNAME:Kulturfabrik Krawatte
X-ORIGINAL-URL:https://www.kulturfabrikkrawatte.de
X-WR-CALDESC:Veranstaltungen für Kulturfabrik Krawatte
REFRESH-INTERVAL;VALUE=DURATION:PT1H
X-Robots-Tag:noindex
X-PUBLISHED-TTL:PT1H
BEGIN:VTIMEZONE
TZID:Europe/Berlin
BEGIN:DAYLIGHT
TZOFFSETFROM:+0100
TZOFFSETTO:+0200
TZNAME:CEST
DTSTART:20230326T010000
END:DAYLIGHT
BEGIN:STANDARD
TZOFFSETFROM:+0200
TZOFFSETTO:+0100
TZNAME:CET
DTSTART:20231029T010000
END:STANDARD
BEGIN:DAYLIGHT
TZOFFSETFROM:+0100
TZOFFSETTO:+0200
TZNAME:CEST
DTSTART:20240331T010000
END:DAYLIGHT
BEGIN:STANDARD
TZOFFSETFROM:+0200
TZOFFSETTO:+0100
TZNAME:CET
DTSTART:20241027T010000
END:STANDARD
BEGIN:DAYLIGHT
TZOFFSETFROM:+0100
TZOFFSETTO:+0200
TZNAME:CEST
DTSTART:20250330T010000
END:DAYLIGHT
BEGIN:STANDARD
TZOFFSETFROM:+0200
TZOFFSETTO:+0100
TZNAME:CET
DTSTART:20251026T010000
END:STANDARD
END:VTIMEZONE
BEGIN:VEVENT
DTSTART;TZID=Europe/Berlin:20240302T163000
DTEND;TZID=Europe/Berlin:20240302T190000
DTSTAMP:20260424T043118
CREATED:20240117T124927Z
LAST-MODIFIED:20240118T125746Z
UID:32851-1709397000-1709406000@www.kulturfabrikkrawatte.de
SUMMARY:Chorus B - Konzert
DESCRIPTION:Die Kulturfabrik freut sich\, am 02. März 2024 die A-Cappella Gruppe Chorus B begrüßen zu dürfen.  \nChorus “B“ präsentieren zum Anlass des 20jährigen Bestehens populäre A-cappella-Arrangements der letzten Jahrzehnte. 20 Sängerinnen und Sänger stellen unter der Leitung von Johannes Backhaus Kompositionen von Klassik bis Pop vor.  \nWohl Jede*r von uns kennt Lieder\, die inspirieren\, gute Laune machen oder nachdenklich stimmen. Oder die man einfach gerne singt. Manche erinnern uns an eine bestimmte Begebenheit\, an einen besonderen Menschen oder an einen Film.  \nDiese „Lieblingslieder“ möchte der Chor Ihnen in einem abwechslungsreichen Programm vorstellen. Dabei sind unteranderem Lieder wie „Hallelujah“ von Leonard Cohen oder „California Dreaming“ von The Mamas and the Papas. \nDer Einlass für das Konzert beginnt um 16:30 Uhr \nDas Konzert Beginnt um 17:00 Uhr  \nTickets für die Veranstaltung gibt es über Eventimlight\, die Website der Kulturfabrik oder an der Abendkasse. \nTicket Preise:\nVorverkauf: 10€ \nAbendkasse: 12€
URL:https://www.kulturfabrikkrawatte.de/event/chorus-b-konzert/
LOCATION:Saal im EG\, Egestorfer Straße 28\, Barsinghausen\, 30890\, Deutschland
CATEGORIES:Konzert,Termin
END:VEVENT
BEGIN:VEVENT
DTSTART;TZID=Europe/Berlin:20240316T153000
DTEND;TZID=Europe/Berlin:20240316T173000
DTSTAMP:20260424T043118
CREATED:20230228T105921Z
LAST-MODIFIED:20240124T134754Z
UID:32453-1710603000-1710610200@www.kulturfabrikkrawatte.de
SUMMARY:Kulturtüte
DESCRIPTION:Bühne frei für Jedermann – Kleinkunst vom Feinsten \nAm 16. März 2024 findet wieder die Kulturtüte im Saal der Kulturfabrik statt. Beginn der Veranstaltung ist um 15:30 Uhr\, Einlass ab 15 Uhr. Eintritt ist frei\, um Spenden wird gebeten. \nDas Programm dieses Mal: \n\n die „lieben Ukulinas“ – Ukulele-Orchester: Wenn 13 Frauen zusammen kommen\, um ihrer wirklichen Leidenschaft nachzukommen\, dann passiert etwas besonderes. Die Liebe zur Ukulele\, die Freude am Singen und der Spaß am gemeinsamen Musizieren haben sie einst in einer Schaumburger Musikschule zusammengeführt. Damals\, vor ungefähr 5 Jahren\, haben sie bei Null angefangen. Heute performen sie authentisch mit Herz und Hand und mehrstimmigen Gesang ein facettenreiches Programm unterschiedlicher Genres.\n Jürgen Albrecht präsentiert mit Gitarrenbegleitung Balladen und Poesie aus drei Jahrhunderten.\ndas Cora Bromund-Trio\, mit Cora Bromund (Gitarre\, Gesang)\, Edgar Lieser (Cajon\, Drumset) und Sophia Becker (Gesang\, Flöte\, Perkussion) erfreut uns mit deutschsprachigen Eigenkompositionen im Stile von Liedermachern.\nDas Clowns-Duo „Cocolorix“\, mit Christine Städtler (alias Coco) und Rainer Hospodarz (alias Hoppo) haben sich die musikalische Seite der Clownerie auf ihre Fahnen geschrieben. Sie haben in ihrer Werkstatt wieder kräftig geschraubt und gebastelt und werden uns Ausschnitte aus ihrem neuen Programm präsentieren.\nDas Duo „scot-erin“\, mit Birgit Dalmer (Fiddle\, Gesang) und Axel Richter (Gesang\, Gitarre\, Waldzither) erfreuen uns mit irischen und schottischen Songs.\n\nFür Kartenreservierungen und organisatorische Fragen\, bitten wir Kontakt mit dem Bildungsverein Barsinghausen „Stemmer Spatzen e.V.“ aufzunehmen.
URL:https://www.kulturfabrikkrawatte.de/event/kulturtuete-3/
LOCATION:Saal im EG\, Egestorfer Straße 28\, Barsinghausen\, 30890\, Deutschland
CATEGORIES:Termin
ORGANIZER;CN="Bildungsverein Barsinghausen":MAILTO:bildungsverein.barsinghausen@htp-tel.de
END:VEVENT
BEGIN:VEVENT
DTSTART;TZID=Europe/Berlin:20240324T190000
DTEND;TZID=Europe/Berlin:20240324T220000
DTSTAMP:20260424T043118
CREATED:20240108T123940Z
LAST-MODIFIED:20240124T180611Z
UID:32832-1711306800-1711317600@www.kulturfabrikkrawatte.de
SUMMARY:Caroline Cotter Konzert
DESCRIPTION:Die Kulturfabrik öffnet ihre Türen am 24. März\, um die talentierte amerikanische Sängerin und Songwriterin Caroline Cotter zu einem unvergesslichen Abend zu begrüßen. \nÜber die Künstlerin: Caroline Cotter\, eine herausragende Songwriterin und Folk-Sängerin aus Maine (USA)\, nimmt uns mit auf eine einzigartige Reise durch die Geschichten ihres neuesten Albums „Gently as I go“. Die zauberhaften Melodien und tiefgründigen Texte fesseln die Zuhörer*innen und berühren Themen wie Reisen und Verbundenheit\, Selbstbestimmung und Kreativität\, Liebe\, Leben und Tod\, Nostalgie und den Prozess des Erwachsenwerdens\, sowie Verlust und Dankbarkeit. \nDie Veranstaltung findet im Saal der Kulturfabrik statt\, wo die atmosphärische Kulisse den perfekten Rahmen für diesen besonderen Abend schafft. Der Einlass beginnt um 19:00 Uhr\, und das Konzert startet um 19:30 Uhr. \nSichert euch eure Tickets im Vorverkauf über unsere Website\, Eventimlight oder direkt in unserem Büro. Für Kurzentschlossene wird es auch eine Abendkasse geben. \nTicket-Preise: \n\nVorverkauf: 18€ (ermäßigt 16€)\nAbendkasse: 20€ (ermäßigt 18€)\n\nBitte beachtet\, dass Ermäßigungen für Schülerinnen\, Studentinnen sowie Personen mit Schwerbehindertenausweis gelten. \n 
URL:https://www.kulturfabrikkrawatte.de/event/caroline-cotter-konzert/
LOCATION:Saal im EG\, Egestorfer Straße 28\, Barsinghausen\, 30890\, Deutschland
CATEGORIES:Konzert,Termin
END:VEVENT
END:VCALENDAR